BEGIN:VCALENDAR
VERSION:2.0
PRODID:-//Tukios.com/
BEGIN:VEVENT
UID:2e82a8f7-87c8-447d-9f52-51fb6433f6e5@www.chamberlainchapel.com
DTSTAMP:20260422T014938Z
DTSTART:20260427T150000Z
DTEND:20260427T160000Z
SUMMARY:Funeral Service
DESCRIPTION:
URL:https://www.chamberlainchapel.com/obituaries/judy-simmons
LOCATION:New American Legion 210 W Bennett Ave  Martin SD 57551
GEO:43.1721566;-101.7367913
END:VEVENT
END:VCALENDAR